BEGIN:VCALENDAR
VERSION:2.0
PRODID:-//wp-events-plugin.com//7.2.3.1//EN
TZID:Europe/Vienna
X-WR-TIMEZONE:Europe/Vienna
BEGIN:VEVENT
UID:3894@flohmarktkalender.at
DTSTART;TZID=Europe/Vienna:20241123T063000
DTEND;TZID=Europe/Vienna:20241123T150000
DTSTAMP:20240115T090714Z
URL:https://www.flohmarktkalender.at/termin/flohmarkt-beim-naschmarkt-3-20
 24-11-23/
SUMMARY:Flohmarkt beim Naschmarkt
DESCRIPTION:Öffnungszeiten\nJeden Samstag\, 6.30 bis 15 Uhr\nAusnahmen:\n\
 n24. und 31. Dezember: Der Markt endet schon um 12 Uhr.\n25. und 26. Dezem
 ber\, 1. und 6. Jänner: kein Markt\nIn der Zeit von 12. bis 24. Dezember 
 ist aufgrund des Christbaummarktes lediglich ein eingeschränkter Flohmark
 tbetrieb möglich.\n\nMehr Infos unter: https://www.wien.gv.at/freizeit/ei
 nkaufen/maerkte/flohmarkt/
CATEGORIES:Flohmarkt
LOCATION: 
X-APPLE-STRUCTURED-LOCATION;VALUE=URI;X-ADDRESS=\, ;X-APPLE-RADIUS=100;X-TI
 TLE=:geo:0,0
END:VEVENT
BEGIN:VTIMEZONE
TZID:Europe/Vienna
X-LIC-LOCATION:Europe/Vienna
BEGIN:STANDARD
DTSTART:20241027T020000
TZOFFSETFROM:+0200
TZOFFSETTO:+0100
TZNAME:CET
END:STANDARD
END:VTIMEZONE
END:VCALENDAR