BEGIN:VCALENDAR
VERSION:2.0
PRODID:-//wp-events-plugin.com//7.2.3.1//EN
TZID:Europe/Vienna
X-WR-TIMEZONE:Europe/Vienna
BEGIN:VEVENT
UID:4054@flohmarktkalender.at
DTSTART;TZID=Europe/Vienna:20241221T060000
DTEND;TZID=Europe/Vienna:20241221T120000
DTSTAMP:20240115T090938Z
URL:https://www.flohmarktkalender.at/termin/flohmarkt-gasthaus-papst-2024-
 12-21/
SUMMARY:Flohmarkt beim Gasthaus Papst
DESCRIPTION:Flohmarkt beim Gasthaus Papst\n\nJeden Samstag \, von 06 - 12 U
 hr in 8330 Leitersdorf 6 beim Gasthaus Papst\n\nStandgebühr 6€\n\nTelef
 on: 0664 2675981\n\nEmail-Adresse:  r.laffer001@gmail.com
CATEGORIES:Flohmarkt
LOCATION:8330 Leitersdorf im Raabtal
GEO:46.941557;15.932604
X-APPLE-STRUCTURED-LOCATION;VALUE=URI;X-ADDRESS=8330 Leitersdorf im Raabtal
 \, Leitersdorf im Raabtal\, Feldbach\, 8330\, Steiermark\, Österreich;X-A
 PPLE-RADIUS=100;X-TITLE=8330 Leitersdorf im Raabtal:geo:46.941557,15.93260
 4
END:VEVENT
BEGIN:VTIMEZONE
TZID:Europe/Vienna
X-LIC-LOCATION:Europe/Vienna
BEGIN:STANDARD
DTSTART:20241027T020000
TZOFFSETFROM:+0200
TZOFFSETTO:+0100
TZNAME:CET
END:STANDARD
END:VTIMEZONE
END:VCALENDAR