BEGIN:VCALENDAR
VERSION:2.0
PRODID:-//wp-events-plugin.com//7.2.3.1//EN
TZID:Europe/Vienna
X-WR-TIMEZONE:Europe/Vienna
BEGIN:VEVENT
UID:3931@flohmarktkalender.at
DTSTART;TZID=Europe/Vienna:20240811T060000
DTEND;TZID=Europe/Vienna:20240811T120000
DTSTAMP:20240115T090752Z
URL:https://www.flohmarktkalender.at/termin/megaflohmarkt-beim-interspar-l
 inz-2-2024-08-11/
SUMMARY:Megaflohmarkt beim Interspar Linz
DESCRIPTION:Megaflohmarkt beim Interspar Linz\n\nDer "Megaflohmarkt" verst
 eht sich als Flohmarkt für jedermann (frau)\, alle können kommen und bei
  uns verkaufen und einkaufen.\n\nDen "Megaflohmarkt" gibt es bereits seit 
 über einem Jahrzehnt und er erfreut sich immer größerer Beliebtheit.\n\
 nTausende Besucher kommen jeden Sonntag zu uns und stöbern und kaufen bei
  unseren zahlreichen Anbietern.\n\nWir sind der größte regelmäßige Flo
 hmarkt in Oberösterreich\, sowohl flächenmäßig als auch was die Anzahl
  der Aussteller und Besucher betrifft.\n\nUnser großes "Highlight" ist\, 
 daß die Flohmarktfläche bei Regen überdacht ist\, wir sind total wetter
 unabhängig\, sowohl bei Regen als auch bei Sommerhitze herrscht ein Wohlf
 ühlklima.\n\nDer Megaflohmarkt findet sowohl am im unteren Parkdeck vom I
 nterspar statt als auch am Gelände vom Cineplexx!\n\nDer Flohmarkt findet
  jeden Sonntag bei jedem Wetter statt!\n\nInfos unter: https://www.megaflo
 hmarkt.at/
CATEGORIES:Flohmarkt
LOCATION: 
X-APPLE-STRUCTURED-LOCATION;VALUE=URI;X-ADDRESS=\, ;X-APPLE-RADIUS=100;X-TI
 TLE=:geo:0,0
END:VEVENT
BEGIN:VTIMEZONE
TZID:Europe/Vienna
X-LIC-LOCATION:Europe/Vienna
BEGIN:DAYLIGHT
DTSTART:20240331T030000
TZOFFSETFROM:+0100
TZOFFSETTO:+0200
TZNAME:CEST
END:DAYLIGHT
END:VTIMEZONE
END:VCALENDAR